BEGIN:VCALENDAR
VERSION:2.0
PRODID:-//hacksw/handcal//NONSGML v1.0//EN
CALSCALE:GREGORIAN
BEGIN:VEVENT
LOCATION:FOE Eagles Club\, 1530 Avenue F\, Council Bluffs\, IA
DESCRIPTION:
DTSTART:20260411T114500
DTEND:20260411T150000
SUMMARY:18th Annual Soup / Chili Cookoff &amp\; Auction
URL;VALUE=URI:https://www.unleashcb.com/events/18th_annual_soup_chili_cookoff_auction/2026-04-11/
DTSTAMP:20260421T035939
UID:69e73c7b61f94
END:VEVENT
END:VCALENDAR