BEGIN:VCALENDAR
VERSION:2.0
PRODID:-//hacksw/handcal//NONSGML v1.0//EN
CALSCALE:GREGORIAN
BEGIN:VEVENT
LOCATION:Avoca Edginton Memorial Park\, 800 East High Street\, Avoca\, IA
DESCRIPTION:
DTSTART:20260606T090000
DTEND:20260606T110000
SUMMARY:3k Walk/Run
URL;VALUE=URI:https://www.unleashcb.com/events/3k_walkrun/2026-06-06/
DTSTAMP:20260424T180402
UID:69ebf6e2ed24a
END:VEVENT
END:VCALENDAR