BEGIN:VCALENDAR
VERSION:2.0
PRODID:-//hacksw/handcal//NONSGML v1.0//EN
CALSCALE:GREGORIAN
BEGIN:VEVENT
LOCATION:Council Bluffs Public Library\, 400 Willow Avenue\, Council Bluffs\, IA
DESCRIPTION:
DTSTART:20260421T180000
DTEND:20260421T204500
SUMMARY:Adult Board Game Night
URL;VALUE=URI:https://www.unleashcb.com/events/adult_board_game_night/2026-04-21/
DTSTAMP:20260421T061735
UID:69e75ccfb97de
END:VEVENT
END:VCALENDAR