BEGIN:VCALENDAR
VERSION:2.0
PRODID:-//hacksw/handcal//NONSGML v1.0//EN
CALSCALE:GREGORIAN
BEGIN:VEVENT
LOCATION:Looft Hall at Iowa Western\, 2700 College Road\, Council Bluffs\, IA
DESCRIPTION:
DTSTART:20260505T090000
DTEND:20260505T110000
SUMMARY:Advertising on Google\, Facebook and Instagram
URL;VALUE=URI:https://www.unleashcb.com/events/advertising_google/2026-05-05/
DTSTAMP:20260421T062031
UID:69e75d7f0524e
END:VEVENT
END:VCALENDAR