BEGIN:VCALENDAR
VERSION:2.0
PRODID:-//hacksw/handcal//NONSGML v1.0//EN
CALSCALE:GREGORIAN
BEGIN:VEVENT
LOCATION:Carter Lake Public Library\, 1120 Willow Drive\, Carter Lake\, IA
DESCRIPTION:
DTSTART:20260422T160000
DTEND:20260422T170000
SUMMARY:Awesome Afternoon Activities: Board Games
URL;VALUE=URI:https://www.unleashcb.com/events/awesome_afternoon_activities_board_games/2026-04-22/
DTSTAMP:20260420T021951
UID:69e5d397cce35
END:VEVENT
END:VCALENDAR