BEGIN:VCALENDAR
VERSION:2.0
PRODID:-//hacksw/handcal//NONSGML v1.0//EN
CALSCALE:GREGORIAN
BEGIN:VEVENT
LOCATION:Council Bluffs Public Library\, 400 Willow Avenue \, Council Bluffs\, IA
DESCRIPTION:
DTSTART:20260526T140000
DTEND:20260526T150000
SUMMARY:Bingocize
URL;VALUE=URI:https://www.unleashcb.com/events/bingocize/2026-05-26/
DTSTAMP:20260421T074257
UID:69e770d130d53
END:VEVENT
END:VCALENDAR