BEGIN:VCALENDAR
VERSION:2.0
PRODID:-//hacksw/handcal//NONSGML v1.0//EN
CALSCALE:GREGORIAN
BEGIN:VEVENT
LOCATION:Stir Cove\, 1 Harrah&#039\;s Boulevard\, Council Bluffs\, IA
DESCRIPTION:
DTSTART:20260926T193000
DTEND:20260926T210000
SUMMARY:Black Label Society
URL;VALUE=URI:https://www.unleashcb.com/events/black_label_society/2026-09-26/
DTSTAMP:20260423T124823
UID:69ea5b67584e3
END:VEVENT
END:VCALENDAR