BEGIN:VCALENDAR
VERSION:2.0
PRODID:-//hacksw/handcal//NONSGML v1.0//EN
CALSCALE:GREGORIAN
BEGIN:VEVENT
LOCATION:Hitchcock Nature Center\, 27792 Ski Hill Loop\, Honey Creek\, IA
DESCRIPTION:
DTSTART:20260718T090000
DTEND:20260718T120000
SUMMARY:Butterfly Basics | A Land Ethic Workshop
URL;VALUE=URI:https://www.unleashcb.com/events/butterfly_basics_a_land_ethic_workshop/2026-07-18/
DTSTAMP:20260420T021823
UID:69e5d33fa30a9
END:VEVENT
END:VCALENDAR