BEGIN:VCALENDAR
VERSION:2.0
PRODID:-//hacksw/handcal//NONSGML v1.0//EN
CALSCALE:GREGORIAN
BEGIN:VEVENT
LOCATION:Fremont Hall at Iowa Western\, 2700 College Road\, Council Bluffs\, IA
DESCRIPTION:
DTSTART:20260630T083000
DTEND:20260630T160000
SUMMARY:Coding in Scratch Sumer Camp (6th-8th Grade)
URL;VALUE=URI:https://www.unleashcb.com/events/coding_in_scratch_sumer_c6th8th_grade/2026-06-30/
DTSTAMP:20260421T091654
UID:69e786d6af28b
END:VEVENT
END:VCALENDAR