BEGIN:VCALENDAR
VERSION:2.0
PRODID:-//hacksw/handcal//NONSGML v1.0//EN
CALSCALE:GREGORIAN
BEGIN:VEVENT
LOCATION:My Nurse Healthcare\, LLC\, 1414 West Broadway\, Council Bluffs\, IA
DESCRIPTION:
DTSTART:20260430T170000
DTEND:20260430T200000
SUMMARY:Collective Bloom Conference
URL;VALUE=URI:https://www.unleashcb.com/events/collective_bloom_conference/2026-04-30/
DTSTAMP:20260421T061527
UID:69e75c4fb0ae2
END:VEVENT
END:VCALENDAR