BEGIN:VCALENDAR
VERSION:2.0
PRODID:-//hacksw/handcal//NONSGML v1.0//EN
CALSCALE:GREGORIAN
BEGIN:VEVENT
LOCATION:Mid-America Center\, 1 Arena Way\, Council Bluffs\, IA
DESCRIPTION:
DTSTART:20261121T080000
DTEND:20261121T170000
SUMMARY:Council Bluffs Kennel Club Dog Show
URL;VALUE=URI:https://www.unleashcb.com/events/council_bluffs_kennel_club_dog_show/2026-11-21/
DTSTAMP:20260422T170440
UID:69e945f811270
END:VEVENT
END:VCALENDAR