BEGIN:VCALENDAR
VERSION:2.0
PRODID:-//hacksw/handcal//NONSGML v1.0//EN
CALSCALE:GREGORIAN
BEGIN:VEVENT
LOCATION:Kinney Hall at Iowa Western\, 2700 College Road\, Council Bluffs\, IA
DESCRIPTION:
DTSTART:20260604T083000
DTEND:20260604T120000
SUMMARY:Create Your Own Anime Character Summer Camp (6th-8th Grade)
URL;VALUE=URI:https://www.unleashcb.com/events/create_your_own_anime_character_summer_c6th8th_grade/2026-06-04/
DTSTAMP:20260421T091847
UID:69e78747d06ef
END:VEVENT
END:VCALENDAR