BEGIN:VCALENDAR
VERSION:2.0
PRODID:-//hacksw/handcal//NONSGML v1.0//EN
CALSCALE:GREGORIAN
BEGIN:VEVENT
LOCATION:Crescent Hill at Hitchcock (Previously Mt. Crescent Ski Area)\, 17026 Snowhill Lane\, Honey Creek\, IA
DESCRIPTION:
DTSTART:20260718T080000
DTEND:20260718T000000
SUMMARY:Crescent Hill 5K | Tow Rope Trot
URL;VALUE=URI:https://www.unleashcb.com/events/crescent_hill_5k_tow_rope_trot/2026-07-18/
DTSTAMP:20260424T180802
UID:69ebf7d287e97
END:VEVENT
END:VCALENDAR