BEGIN:VCALENDAR
VERSION:2.0
PRODID:-//hacksw/handcal//NONSGML v1.0//EN
CALSCALE:GREGORIAN
BEGIN:VEVENT
LOCATION:Iowa Western Student Center \, 2700 College Road\, Council Bluffs\, IA
DESCRIPTION:
DTSTART:20260722T083000
DTEND:20260722T160000
SUMMARY:Culinary Arts Summer Camp (6th-8th Grade)
URL;VALUE=URI:https://www.unleashcb.com/events/culinary_arts_summer_c6th8th_grade/2026-07-22/
DTSTAMP:20260421T105223
UID:69e79d3747f00
END:VEVENT
END:VCALENDAR