BEGIN:VCALENDAR
VERSION:2.0
PRODID:-//hacksw/handcal//NONSGML v1.0//EN
CALSCALE:GREGORIAN
BEGIN:VEVENT
LOCATION:Looft Hall at Iowa Western\, 2700 College Road\, Council Bluffs\, IA
DESCRIPTION:
DTSTART:20260708T083000
DTEND:20260708T160000
SUMMARY:EMS &amp\; Health Summer Camp (6th-8th Grade)
URL;VALUE=URI:https://www.unleashcb.com/events/ems_health_summer_c6th8th_grade/2026-07-08/
DTSTAMP:20260421T105236
UID:69e79d4450219
END:VEVENT
END:VCALENDAR