BEGIN:VCALENDAR
VERSION:2.0
PRODID:-//hacksw/handcal//NONSGML v1.0//EN
CALSCALE:GREGORIAN
BEGIN:VEVENT
LOCATION:Carter Lake Public Library\, 1120 Willow Drive\, Carter Lake\, IA
DESCRIPTION:
DTSTART:20260423T103000
DTEND:20260423T113000
SUMMARY:Family Storytime
URL;VALUE=URI:https://www.unleashcb.com/events/family_storytime/2026-04-23/
DTSTAMP:20260421T061816
UID:69e75cf8e6382
END:VEVENT
END:VCALENDAR