BEGIN:VCALENDAR
VERSION:2.0
PRODID:-//hacksw/handcal//NONSGML v1.0//EN
CALSCALE:GREGORIAN
BEGIN:VEVENT
LOCATION:St. Patrick Catholic Church\, 311 3rd Street\, Neola\, IA
DESCRIPTION:
DTSTART:20260320T170000
DTEND:20260320T190000
SUMMARY:Fish Fry - St. Patrick Catholic Church Neola
URL;VALUE=URI:https://www.unleashcb.com/events/fish_fry_st_patrick_catholic_church_neola/2026-03-20/
DTSTAMP:20260421T040450
UID:69e73db2b50f3
END:VEVENT
END:VCALENDAR