BEGIN:VCALENDAR
VERSION:2.0
PRODID:-//hacksw/handcal//NONSGML v1.0//EN
CALSCALE:GREGORIAN
BEGIN:VEVENT
LOCATION:Iowa Western Student Center \, 2700 College Road\, Council Bluffs\, IA
DESCRIPTION:
DTSTART:20260623T090000
DTEND:20260623T150000
SUMMARY:Food Truck Discovery Day (9th-12th Grade)
URL;VALUE=URI:https://www.unleashcb.com/events/food_truck_discovery_day_9th12th_grade/2026-06-23/
DTSTAMP:20260421T092005
UID:69e787952cca7
END:VEVENT
END:VCALENDAR