BEGIN:VCALENDAR
VERSION:2.0
PRODID:-//hacksw/handcal//NONSGML v1.0//EN
CALSCALE:GREGORIAN
BEGIN:VEVENT
LOCATION:Kinney Hall at Iowa Western\, 2700 College Road\, Council Bluffs\, IA
DESCRIPTION:
DTSTART:20260611T090000
DTEND:20260611T153000
SUMMARY:Forklift Training
URL;VALUE=URI:https://www.unleashcb.com/events/forklift_training/2026-06-11/
DTSTAMP:20260421T091807
UID:69e7871f2f37a
END:VEVENT
END:VCALENDAR