BEGIN:VCALENDAR
VERSION:2.0
PRODID:-//hacksw/handcal//NONSGML v1.0//EN
CALSCALE:GREGORIAN
BEGIN:VEVENT
LOCATION:Online\, 2700 College Road\, Council Bluffs\, IA
DESCRIPTION:
DTSTART:20260504T000100
DTEND:20260504T013100
SUMMARY:FREE BLS Provider (Online Class)
URL;VALUE=URI:https://www.unleashcb.com/events/free_bls_provider_online_class/2026-05-04/
DTSTAMP:20260421T074445
UID:69e7713d34a82
END:VEVENT
END:VCALENDAR