BEGIN:VCALENDAR
VERSION:2.0
PRODID:-//hacksw/handcal//NONSGML v1.0//EN
CALSCALE:GREGORIAN
BEGIN:VEVENT
LOCATION:Council Bluffs Public Library\, 400 Willow Avenue\, Council Bluffs\, IA
DESCRIPTION:
DTSTART:20260502T130000
DTEND:20260502T150000
SUMMARY:Free Comic Book Day
URL;VALUE=URI:https://www.unleashcb.com/events/free_comic_book_day/2026-05-02/
DTSTAMP:20260422T041544
UID:69e891c0306ae
END:VEVENT
END:VCALENDAR