BEGIN:VCALENDAR
VERSION:2.0
PRODID:-//hacksw/handcal//NONSGML v1.0//EN
CALSCALE:GREGORIAN
BEGIN:VEVENT
LOCATION:Online\, 2700 College Road\, Council Bluffs\, IA
DESCRIPTION:
DTSTART:20260518T000100
DTEND:20260518T013100
SUMMARY:Free Heartsaver Total First Aide CPR/AED
URL;VALUE=URI:https://www.unleashcb.com/events/free_heartsaver_total_first_aide_cpraed/2026-05-18/
DTSTAMP:20260421T074445
UID:69e7713de1947
END:VEVENT
END:VCALENDAR