BEGIN:VCALENDAR
VERSION:2.0
PRODID:-//hacksw/handcal//NONSGML v1.0//EN
CALSCALE:GREGORIAN
BEGIN:VEVENT
LOCATION:Hitchcock Nature Center\, 27792 Ski Hill Loop\, Honey Creek\, IA
DESCRIPTION:
DTSTART:20260620T090000
DTEND:20260620T120000
SUMMARY:Freshwater Aquatic Studies | A Land Ethic Workshop
URL;VALUE=URI:https://www.unleashcb.com/events/freshwater_aquatic_studies_a_land_ethic_workshop/2026-06-20/
DTSTAMP:20260421T091849
UID:69e78749d0f51
END:VEVENT
END:VCALENDAR