BEGIN:VCALENDAR
VERSION:2.0
PRODID:-//hacksw/handcal//NONSGML v1.0//EN
CALSCALE:GREGORIAN
BEGIN:VEVENT
LOCATION:Iowa Western Student Center \, 2700 College Road\, Council Bluffs\, IA
DESCRIPTION:
DTSTART:20260424T080000
DTEND:20260424T110000
SUMMARY:Friday Bakery
URL;VALUE=URI:https://www.unleashcb.com/events/friday_luncheon_bakery/2026-04-24/
DTSTAMP:20260420T022839
UID:69e5d5a737c7d
END:VEVENT
END:VCALENDAR