BEGIN:VCALENDAR
VERSION:2.0
PRODID:-//hacksw/handcal//NONSGML v1.0//EN
CALSCALE:GREGORIAN
BEGIN:VEVENT
LOCATION:Council Bluffs Public Library\, 400 Willow Avenue\, Council Bluffs\, IA
DESCRIPTION:
DTSTART:20260427T173000
DTEND:20260427T190000
SUMMARY:Friends of the CBPL Annual Meeting
URL;VALUE=URI:https://www.unleashcb.com/events/friends_of_the_cbpl_annual_meeting/2026-04-27/
DTSTAMP:20260420T024010
UID:69e5d85a9f454
END:VEVENT
END:VCALENDAR