BEGIN:VCALENDAR
VERSION:2.0
PRODID:-//hacksw/handcal//NONSGML v1.0//EN
CALSCALE:GREGORIAN
BEGIN:VEVENT
LOCATION:Looft Hall at Iowa Western\, 2700 College Road\, Council Bluffs\, IA
DESCRIPTION:
DTSTART:20260513T110000
DTEND:20260513T133000
SUMMARY:From Position to Influence - Developing the Leader Within
URL;VALUE=URI:https://www.unleashcb.com/events/from_position_to_influence_developing_the_leader_within/2026-05-13/
DTSTAMP:20260421T074241
UID:69e770c1546cd
END:VEVENT
END:VCALENDAR