BEGIN:VCALENDAR
VERSION:2.0
PRODID:-//hacksw/handcal//NONSGML v1.0//EN
CALSCALE:GREGORIAN
BEGIN:VEVENT
LOCATION:Westfair Fairgrounds and Amphitheater \, 22884 Highway 6 \, Council Bluffs\, IA
DESCRIPTION:
DTSTART:20260502T170000
DTEND:20260502T210000
SUMMARY:Frost Buster Demolition Derby
URL;VALUE=URI:https://www.unleashcb.com/events/frost_buster_demolition_derby/2026-05-02/
DTSTAMP:20260421T040702
UID:69e73e3628b8a
END:VEVENT
END:VCALENDAR