BEGIN:VCALENDAR
VERSION:2.0
PRODID:-//hacksw/handcal//NONSGML v1.0//EN
CALSCALE:GREGORIAN
BEGIN:VEVENT
LOCATION:Iowa Western Aviation Maintenance Building\, 2700 College Road\, Council Bluffs\, IA
DESCRIPTION:
DTSTART:20260615T090000
DTEND:20260615T150000
SUMMARY:Fundamentals of Flight Discovery Day (9th-12th Grade)
URL;VALUE=URI:https://www.unleashcb.com/events/fundamentals_of_flight_discovery_day_9th12th_grade/2026-06-15/
DTSTAMP:20260421T091817
UID:69e7872947375
END:VEVENT
END:VCALENDAR