BEGIN:VCALENDAR
VERSION:2.0
PRODID:-//hacksw/handcal//NONSGML v1.0//EN
CALSCALE:GREGORIAN
BEGIN:VEVENT
LOCATION:Ditmars Orchard &amp\; Vineyard\, 19475 225th Street\, Council Bluffs\, IA
DESCRIPTION:
DTSTART:20260424T170000
DTEND:20260424T200000
SUMMARY:Game Night at the Orchard
URL;VALUE=URI:https://www.unleashcb.com/events/game_night_at_the_orchard/2026-04-24/
DTSTAMP:20260421T061735
UID:69e75ccf4d754
END:VEVENT
END:VCALENDAR