BEGIN:VCALENDAR
VERSION:2.0
PRODID:-//hacksw/handcal//NONSGML v1.0//EN
CALSCALE:GREGORIAN
BEGIN:VEVENT
LOCATION:Unleash Council Bluffs\, 509 23rd Avenue\, Council Bluffs\, IA
DESCRIPTION:
DTSTART:20260423T180000
DTEND:20260423T200000
SUMMARY:Gardening with Native Plants: Garden Design and Maintenance Field Trip
URL;VALUE=URI:https://www.unleashcb.com/events/gardening_with_native_plants_garden_design_and_maintenance_field_trip/2026-04-23/
DTSTAMP:20260421T061950
UID:69e75d56a13ad
END:VEVENT
END:VCALENDAR