BEGIN:VCALENDAR
VERSION:2.0
PRODID:-//hacksw/handcal//NONSGML v1.0//EN
CALSCALE:GREGORIAN
BEGIN:VEVENT
LOCATION:City Hall\, 209 Pearl Street\, Council Bluffs\, IA
DESCRIPTION:
DTSTART:20260902T160000
DTEND:20260902T173000
SUMMARY:Historic Preservation Commission Meeting
URL;VALUE=URI:https://www.unleashcb.com/events/historic_preservation_commission_meeting/2026-09-02/
DTSTAMP:20260421T091939
UID:69e7877b7878c
END:VEVENT
END:VCALENDAR