BEGIN:VCALENDAR
VERSION:2.0
PRODID:-//hacksw/handcal//NONSGML v1.0//EN
CALSCALE:GREGORIAN
BEGIN:VEVENT
LOCATION:Hitchcock Nature Center\, 27792 Ski Hill Loop\, Honey Creek\, IA
DESCRIPTION:
DTSTART:20260423T180000
DTEND:20260423T193000
SUMMARY:Hitchcock Folk School |&nbsp\;Introduction to Ancient Jewelry
URL;VALUE=URI:https://www.unleashcb.com/events/hitchcock_folk_school_nbspintroduction_to_ancient_jewelry/2026-04-23/
DTSTAMP:20260420T022420
UID:69e5d4a4da8fd
END:VEVENT
END:VCALENDAR