BEGIN:VCALENDAR
VERSION:2.0
PRODID:-//hacksw/handcal//NONSGML v1.0//EN
CALSCALE:GREGORIAN
BEGIN:VEVENT
LOCATION:Epworth United Methodist Church\, 2447 Avenue B\, Council Bluffs\, IA
DESCRIPTION:
DTSTART:20260418T163000
DTEND:20260418T183000
SUMMARY:Josh Daniels Gospel Music Show
URL;VALUE=URI:https://www.unleashcb.com/events/josh_daniels_gospel_music_show/2026-04-18/
DTSTAMP:20260421T024706
UID:69e72b7a3f17d
END:VEVENT
END:VCALENDAR