BEGIN:VCALENDAR
VERSION:2.0
PRODID:-//hacksw/handcal//NONSGML v1.0//EN
CALSCALE:GREGORIAN
BEGIN:VEVENT
LOCATION:Stir Cove\, 1 Harrah&#039\;s Boulevard\, Council Bluffs\, IA
DESCRIPTION:
DTSTART:20260809T200000
DTEND:20260809T213000
SUMMARY:Kane Brown
URL;VALUE=URI:https://www.unleashcb.com/events/kane_brown/2026-08-09/
DTSTAMP:20260423T124803
UID:69ea5b5358d79
END:VEVENT
END:VCALENDAR