BEGIN:VCALENDAR
VERSION:2.0
PRODID:-//hacksw/handcal//NONSGML v1.0//EN
CALSCALE:GREGORIAN
BEGIN:VEVENT
LOCATION:Jonesy&#039\;s Taco House\, 1117 16th Avenue\, Council Bluffs\, IA
DESCRIPTION:
DTSTART:20260504T163000
DTEND:20260504T183000
SUMMARY:Let&#039\;s Taco-Bout Walk
URL;VALUE=URI:https://www.unleashcb.com/events/lets_tacobout_walk/2026-05-04/
DTSTAMP:20260421T074420
UID:69e771247d349
END:VEVENT
END:VCALENDAR