BEGIN:VCALENDAR
VERSION:2.0
PRODID:-//hacksw/handcal//NONSGML v1.0//EN
CALSCALE:GREGORIAN
BEGIN:VEVENT
LOCATION:Field Co Creative\, 1010 South Main Street\, Council Bluffs\, IA
DESCRIPTION:
DTSTART:20260425T100000
DTEND:20260425T120000
SUMMARY:Letters Worth Sending: Handmade Card + Letters Workshop
URL;VALUE=URI:https://www.unleashcb.com/events/letters_worth_sending_handmade_card_letters_workshop/2026-04-25/
DTSTAMP:20260421T061746
UID:69e75cda6b02a
END:VEVENT
END:VCALENDAR