BEGIN:VCALENDAR
VERSION:2.0
PRODID:-//hacksw/handcal//NONSGML v1.0//EN
CALSCALE:GREGORIAN
BEGIN:VEVENT
LOCATION:K&amp\;M Extenstions Loft\, 530 West Broadway Suite 105\, Council Bluffs\, IA
DESCRIPTION:
DTSTART:20260502T170000
DTEND:20260502T210000
SUMMARY:Mama&#039\;s Day Pop Up
URL;VALUE=URI:https://www.unleashcb.com/events/mamas_day_pop_up/2026-05-02/
DTSTAMP:20260423T124741
UID:69ea5b3d0bfec
END:VEVENT
END:VCALENDAR