BEGIN:VCALENDAR
VERSION:2.0
PRODID:-//hacksw/handcal//NONSGML v1.0//EN
CALSCALE:GREGORIAN
BEGIN:VEVENT
LOCATION:Kinney Hall at Iowa Western\, 2700 College Road\, Council Bluffs\, IA
DESCRIPTION:
DTSTART:20260625T090000
DTEND:20260625T110000
SUMMARY:Mastering Anime Character Development &amp\; Storylines Discovery Day (9th-12th Grade)
URL;VALUE=URI:https://www.unleashcb.com/events/mastering_anime_character_development_storylines_discovery_day_9th12th_grade/2026-06-25/
DTSTAMP:20260421T105244
UID:69e79d4c0492f
END:VEVENT
END:VCALENDAR