BEGIN:VCALENDAR
VERSION:2.0
PRODID:-//hacksw/handcal//NONSGML v1.0//EN
CALSCALE:GREGORIAN
BEGIN:VEVENT
LOCATION:Kinney Hall at Iowa Western\, 2700 College Road\, Council Bluffs\, IA
DESCRIPTION:
DTSTART:20260702T083000
DTEND:20260702T160000
SUMMARY:Math Skills Summer Camp (6th-8th Grade)
URL;VALUE=URI:https://www.unleashcb.com/events/math_skills_summer_c6th8th_grade/2026-07-02/
DTSTAMP:20260420T023725
UID:69e5d7b57316e
END:VEVENT
END:VCALENDAR