BEGIN:VCALENDAR
VERSION:2.0
PRODID:-//hacksw/handcal//NONSGML v1.0//EN
CALSCALE:GREGORIAN
BEGIN:VEVENT
LOCATION:Looft Hall at Iowa Western\, 2700 College Road\, Council Bluffs\, IA
DESCRIPTION:
DTSTART:20260803T083000
DTEND:20260803T163000
SUMMARY:Medication Manager
URL;VALUE=URI:https://www.unleashcb.com/events/medication_manager/2026-08-03/
DTSTAMP:20260421T091725
UID:69e786f512f3d
END:VEVENT
END:VCALENDAR