BEGIN:VCALENDAR
VERSION:2.0
PRODID:-//hacksw/handcal//NONSGML v1.0//EN
CALSCALE:GREGORIAN
BEGIN:VEVENT
LOCATION:Looft Hall at Iowa Western\, 2700 College Road\, Council Bluffs\, IA
DESCRIPTION:
DTSTART:20261009T080000
DTEND:20261009T163000
SUMMARY:Medication Manager
URL;VALUE=URI:https://www.unleashcb.com/events/medication_manager/2026-10-09/
DTSTAMP:20260421T093044
UID:69e78a14c659f
END:VEVENT
END:VCALENDAR