BEGIN:VCALENDAR
VERSION:2.0
PRODID:-//hacksw/handcal//NONSGML v1.0//EN
CALSCALE:GREGORIAN
BEGIN:VEVENT
LOCATION:Looft Hall at Iowa Western\, 2700 College Road\, Council Bluffs\, IA
DESCRIPTION:
DTSTART:20260911T083000
DTEND:20260911T160000
SUMMARY:Medication Manager Lab
URL;VALUE=URI:https://www.unleashcb.com/events/medication_manager_lab/2026-09-11/
DTSTAMP:20260421T091244
UID:69e785dcf39a9
END:VEVENT
END:VCALENDAR