BEGIN:VCALENDAR
VERSION:2.0
PRODID:-//hacksw/handcal//NONSGML v1.0//EN
CALSCALE:GREGORIAN
BEGIN:VEVENT
LOCATION:Looft Hall at Iowa Western\, 2700 College Road \, Council Bluffs\, IA
DESCRIPTION:
DTSTART:20261123T083000
DTEND:20261123T160000
SUMMARY:Medication Manager Lab
URL;VALUE=URI:https://www.unleashcb.com/events/medication_manager_lab/2026-11-23/
DTSTAMP:20260421T092553
UID:69e788f1785b3
END:VEVENT
END:VCALENDAR