BEGIN:VCALENDAR
VERSION:2.0
PRODID:-//hacksw/handcal//NONSGML v1.0//EN
CALSCALE:GREGORIAN
BEGIN:VEVENT
LOCATION:Online\, 2700 College Road\, Council Bluffs\, IA
DESCRIPTION:
DTSTART:20260701T000100
DTEND:20260701T013100
SUMMARY:Medication Manager Online
URL;VALUE=URI:https://www.unleashcb.com/events/medication_manager_online/2026-07-01/
DTSTAMP:20260420T021807
UID:69e5d32f21b01
END:VEVENT
END:VCALENDAR