BEGIN:VCALENDAR
VERSION:2.0
PRODID:-//hacksw/handcal//NONSGML v1.0//EN
CALSCALE:GREGORIAN
BEGIN:VEVENT
LOCATION:Online\, 2700 College Road\, Council Bluffs\, IA
DESCRIPTION:
DTSTART:20261001T000100
DTEND:20261001T013100
SUMMARY:Medication Manager Online
URL;VALUE=URI:https://www.unleashcb.com/events/medication_manager_online/2026-10-01/
DTSTAMP:20260421T091746
UID:69e7870a3f047
END:VEVENT
END:VCALENDAR