BEGIN:VCALENDAR
VERSION:2.0
PRODID:-//hacksw/handcal//NONSGML v1.0//EN
CALSCALE:GREGORIAN
BEGIN:VEVENT
LOCATION:Sportsbook Bar and Grill Ameristar \, 2200 River Road \, Council Bluffs\, IA
DESCRIPTION:
DTSTART:20260420T190000
DTEND:20260420T210000
SUMMARY:Music Bingo Night at Ameristar
URL;VALUE=URI:https://www.unleashcb.com/events/music_bingo_night_at_ameristar/2026-04-20/
DTSTAMP:20260420T022721
UID:69e5d559989cf
END:VEVENT
END:VCALENDAR