BEGIN:VCALENDAR
VERSION:2.0
PRODID:-//hacksw/handcal//NONSGML v1.0//EN
CALSCALE:GREGORIAN
BEGIN:VEVENT
LOCATION:Sportsbook Bar and Grill Ameristar \, 2200 River Road \, Council Bluffs\, IA
DESCRIPTION:
DTSTART:20260525T190000
DTEND:20260525T210000
SUMMARY:Music Bingo Night at Ameristar
URL;VALUE=URI:https://www.unleashcb.com/events/music_bingo_night_at_ameristar/2026-05-25/
DTSTAMP:20260421T074536
UID:69e7717084ef3
END:VEVENT
END:VCALENDAR