BEGIN:VCALENDAR
VERSION:2.0
PRODID:-//hacksw/handcal//NONSGML v1.0//EN
CALSCALE:GREGORIAN
BEGIN:VEVENT
LOCATION:Sportsbook Bar and Grill Ameristar \, 2200 River Road \, Council Bluffs\, IA
DESCRIPTION:
DTSTART:20260713T190000
DTEND:20260713T210000
SUMMARY:Music Bingo Night at Ameristar
URL;VALUE=URI:https://www.unleashcb.com/events/music_bingo_night_at_ameristar/2026-07-13/
DTSTAMP:20260421T105242
UID:69e79d4af1d17
END:VEVENT
END:VCALENDAR