BEGIN:VCALENDAR
VERSION:2.0
PRODID:-//hacksw/handcal//NONSGML v1.0//EN
CALSCALE:GREGORIAN
BEGIN:VEVENT
LOCATION:Sportsbook Bar and Grill Ameristar \, 2200 River Road \, Council Bluffs\, IA
DESCRIPTION:
DTSTART:20260720T190000
DTEND:20260720T210000
SUMMARY:Music Bingo Night at Ameristar
URL;VALUE=URI:https://www.unleashcb.com/events/music_bingo_night_at_ameristar/2026-07-20/
DTSTAMP:20260421T105405
UID:69e79d9db84db
END:VEVENT
END:VCALENDAR