BEGIN:VCALENDAR
VERSION:2.0
PRODID:-//hacksw/handcal//NONSGML v1.0//EN
CALSCALE:GREGORIAN
BEGIN:VEVENT
LOCATION:Sportsbook Bar and Grill Ameristar \, 2200 River Road \, Council Bluffs\, IA
DESCRIPTION:
DTSTART:20260817T190000
DTEND:20260817T210000
SUMMARY:Music Bingo Night at Ameristar
URL;VALUE=URI:https://www.unleashcb.com/events/music_bingo_night_at_ameristar/2026-08-17/
DTSTAMP:20260421T090633
UID:69e78469cecda
END:VEVENT
END:VCALENDAR